BEGIN:VCALENDAR
PRODID:-//github.com/rianjs/ical.net//NONSGML ical.net 4.0//EN
VERSION:2.0
BEGIN:VEVENT
DESCRIPTION:17. mai-frokost på Katta
DTEND:20260517T120000
DTSTAMP:20260420T030031Z
DTSTART:20260517T090000
LOCATION:Kantina
SEQUENCE:0
SUMMARY:17. mai-frokost på Katta
UID:2751245c-ff9b-4842-b81b-1061b3ef1024
END:VEVENT
END:VCALENDAR
